BEGIN:VCALENDAR
VERSION:2.0
PRODID:-//Ciudadanos | Cantabria - ECPv4.6.7//NONSGML v1.0//EN
CALSCALE:GREGORIAN
METHOD:PUBLISH
X-WR-CALNAME:Ciudadanos | Cantabria
X-ORIGINAL-URL:http://cantabria.ciudadanos-cs.org
X-WR-CALDESC:Events for Ciudadanos | Cantabria
BEGIN:VEVENT
DTSTART;TZID=UTC+0:20210428T191500
DTEND;TZID=UTC+0:20210428T201500
DTSTAMP:20260420T005913
CREATED:20210420T132507Z
LAST-MODIFIED:20210423T155316Z
UID:9700-1619637300-1619640900@cantabria.ciudadanos-cs.org
SUMMARY:Encuentro #TUenlasInstituciones con la diputada Marta García
DESCRIPTION:Encuentro Telemático  vía Zoom con nuestro diputada Marta García para conocer la labor que desarrollan los diputados de Ciudadanos en el Parlamento de Cantabria.\n\nMiércoles 28\, 19\,15 horas. \n
URL:http://cantabria.ciudadanos-cs.org/evento/encuentro-tuenlasinstituciones-con-la-diputada-marta-garcia/
ATTACH;FMTTYPE=image/jpeg:http://cantabria.ciudadanos-cs.org/wp-content/uploads/sites/16/2021/04/Tuenlasinstituciones_FB-MARTA.jpg
END:VEVENT
END:VCALENDAR